BEGIN:VCALENDAR
VERSION:2.0
PRODID:-//ChamberMaster//Event Calendar 2.0//EN
METHOD:PUBLISH
X-PUBLISHED-TTL:P3D
REFRESH-INTERVAL:P3D
CALSCALE:GREGORIAN
BEGIN:VEVENT
DTSTART:20191002T140000Z
DTEND:20191002T163000Z
X-MICROSOFT-CDO-ALLDAYEVENT:FALSE
SUMMARY:1st Wednesday Breakfast Networking - Speaker Christopher Crowley
DESCRIPTION:The West Los Angeles Chamber is dedicated to providing opportunities for business owners to interact with each other as well as leaders in the community. We believe that it is important to develop relationships with like-minded business owners with the intention of helping each other succeed. This is one of the best ways to grow your business\, even in this day and age of online technology. Nothing can replace an in-person interaction\, the shaking of someone's hand.\n\n\n\n \n\n\n\nBring plenty of business cards and have your 1-minute pitch ready! You will have the opportunity to share your business during our rounds of table networking.
X-ALT-DESC;FMTTYPE=text/html:<div data-block="true" data-editor="arvik" data-offset-key="2i3q9-0-0" style="font-family: Helvetica\, Arial\, sans-serif\; color: rgb(28\, 30\, 33)\; font-size: 12px\; white-space: pre-wrap\;">\n<div class="_1mf _1mj" data-offset-key="2i3q9-0-0" style="position: relative\; direction: ltr\; font-family: inherit\;"><span data-offset-key="d59oa-0-0" style="font-family: inherit\;">The West Los Angeles Chamber is dedicated to providing opportunities for business owners to interact with each other as well as leaders in the community. We believe that it is important to develop relationships with like-minded business owners with the intention of helping each other succeed. This is one of the best ways to grow your business\, even in this day and age of online technology. Nothing can replace an in-person interaction\, the shaking of someone&rsquo\;s hand.</span></div>\n</div>\n\n<div data-block="true" data-editor="arvik" data-offset-key="8a5ve-0-0" style="font-family: Helvetica\, Arial\, sans-serif\; color: rgb(28\, 30\, 33)\; font-size: 12px\; white-space: pre-wrap\;">\n<div class="_1mf _1mj" data-offset-key="8a5ve-0-0" style="position: relative\; direction: ltr\; font-family: inherit\;">&nbsp\;</div>\n</div>\n\n<div data-block="true" data-editor="arvik" data-offset-key="a8h9t-0-0" style="font-family: Helvetica\, Arial\, sans-serif\; color: rgb(28\, 30\, 33)\; font-size: 12px\; white-space: pre-wrap\;">\n<div class="_1mf _1mj" data-offset-key="a8h9t-0-0" style="position: relative\; direction: ltr\; font-family: inherit\;"><span data-offset-key="a8h9t-0-0" style="font-family: inherit\;">Bring plenty of business cards and have your 1-minute pitch ready! You will have the opportunity to share your business during our rounds of table networking.</span></div>\n</div>\n
LOCATION:1218 Glendon Ave\, Los Angeles\, CA90024
UID:e.3004.18547
SEQUENCE:3
DTSTAMP:20260424T073056Z
URL:https://www.westlachamber.org/events/details/1st-wednesday-breakfast-networking-speaker-christopher-crowley-18547
END:VEVENT

END:VCALENDAR
