BEGIN:VCALENDAR
VERSION:2.0
PRODID:-//ChamberMaster//Event Calendar 2.0//EN
METHOD:PUBLISH
X-PUBLISHED-TTL:P3D
REFRESH-INTERVAL:P3D
CALSCALE:GREGORIAN
BEGIN:VEVENT
DTSTART:20230613T190000Z
DTEND:20230613T200000Z
X-MICROSOFT-CDO-ALLDAYEVENT:FALSE
SUMMARY:Networking at Noon
DESCRIPTION:Join us for Networking at Noon! Connect with fellow Chamber members and discuss your business while enjoying a delicious meal.
X-ALT-DESC;FMTTYPE=text/html:Join us for Networking at Noon! Connect with fellow Chamber members and discuss your business while enjoying a delicious meal.&nbsp\;
LOCATION:Delphi Greek Restaurant and Bar
UID:e.3004.18879
SEQUENCE:3
DTSTAMP:20260424T215406Z
URL:https://www.westlachamber.org/events/details/networking-at-noon-06-13-2023-18879
END:VEVENT

END:VCALENDAR
